BEGIN:VCALENDAR
VERSION:2.0
PRODID:-//Rifondazione - Cultura e formazione - ECPv6.0.6.2//NONSGML v1.0//EN
CALSCALE:GREGORIAN
METHOD:PUBLISH
X-WR-CALNAME:Rifondazione - Cultura e formazione
X-ORIGINAL-URL:https://www.rifondazionecultura.it
X-WR-CALDESC:Eventi per Rifondazione - Cultura e formazione
REFRESH-INTERVAL;VALUE=DURATION:PT1H
X-Robots-Tag:noindex
X-PUBLISHED-TTL:PT1H
BEGIN:VTIMEZONE
TZID:UTC
BEGIN:STANDARD
TZOFFSETFROM:+0000
TZOFFSETTO:+0000
TZNAME:UTC
DTSTART:20210101T000000
END:STANDARD
END:VTIMEZONE
BEGIN:VEVENT
DTSTART;TZID=UTC:20210202T180000
DTEND;TZID=UTC:20210202T193000
DTSTAMP:20230118T144945
CREATED:20210131T162342Z
LAST-MODIFIED:20210131T162411Z
UID:617-1612288800-1612294200@www.rifondazionecultura.it
SUMMARY:La palestina oltre l'immaginario
DESCRIPTION:Martedì 2 febbraio 2021\, ore 18.00\, in diretta sul canale YouTube dell’area Cultura&Formazione Immaginare il Futuro (qui) e sulla pagina Facebook del Partito della Rifondazione Comunista (qui). \nCon: \n\nFrancesca Albanese\,\nricercatrice affiliata presso Georgetown University e autrice di Palestinian refugees in international law (Oxford University Press\, 2020)\nBarbara Fantoni\,\nAssociazione di Amicizia Italo-Palestinese\nMicol Savia\,\nAssociazione Internazionale dei Giuristi Democratici\nCoordina Giovanni Russo Spena\,\nComitato Politico Nazionale del Partito della Rifondazione Comunista\n\nOrganizzano l’area Esteri e Pace e l’area Cultura e Formazione del PRC
URL:https://www.rifondazionecultura.it/event/la-palestina-oltre-limmaginario/
LOCATION:Telematico
CATEGORIES:Area Cultura e Formazione
END:VEVENT
END:VCALENDAR