BEGIN:VCALENDAR
VERSION:2.0
PRODID:-//Rifondazione - Cultura e formazione - ECPv6.0.6.2//NONSGML v1.0//EN
CALSCALE:GREGORIAN
METHOD:PUBLISH
X-WR-CALNAME:Rifondazione - Cultura e formazione
X-ORIGINAL-URL:https://www.rifondazionecultura.it
X-WR-CALDESC:Eventi per Rifondazione - Cultura e formazione
REFRESH-INTERVAL;VALUE=DURATION:PT1H
X-Robots-Tag:noindex
X-PUBLISHED-TTL:PT1H
BEGIN:VTIMEZONE
TZID:UTC
BEGIN:STANDARD
TZOFFSETFROM:+0000
TZOFFSETTO:+0000
TZNAME:UTC
DTSTART:20210101T000000
END:STANDARD
END:VTIMEZONE
BEGIN:VEVENT
DTSTART;TZID=UTC:20210331T180000
DTEND;TZID=UTC:20210331T193000
DTSTAMP:20230118T143800
CREATED:20210414T073507Z
LAST-MODIFIED:20210414T073507Z
UID:1152-1617213600-1617219000@www.rifondazionecultura.it
SUMMARY:Neofascismo in grigio e antifascismo in filigrana?
DESCRIPTION:Mercoledì 31 marzo 2021\, ore 18.00 \n\nCon:\n– Claudio Vercelli (storico)\n– Maddalena Gretel Cammelli (antropologa) \n\nIntroduce e coordina: Dmitrij Palagi\, responsabile cultura e formazione PRC/SE\n\n*** \n\nIn diretta\n– sul canale YouTube “Immaginare il futuro” https://youtu.be/x0HuxKMsNwE\n– sulle pagine Facebook del Partito della Rifondazione @rifondazione.comunista e @sulatestarivista
URL:https://www.rifondazionecultura.it/event/neofascismo-in-grigio-e-antifascismo-in-filigrana/
LOCATION:Telematico
CATEGORIES:Area Cultura e Formazione
END:VEVENT
END:VCALENDAR