BEGIN:VCALENDAR
VERSION:2.0
PRODID:-//Rifondazione - Cultura e formazione - ECPv6.0.6.2//NONSGML v1.0//EN
CALSCALE:GREGORIAN
METHOD:PUBLISH
X-ORIGINAL-URL:https://www.rifondazionecultura.it
X-WR-CALDESC:Eventi per Rifondazione - Cultura e formazione
REFRESH-INTERVAL;VALUE=DURATION:PT1H
X-Robots-Tag:noindex
X-PUBLISHED-TTL:PT1H
BEGIN:VTIMEZONE
TZID:UTC
BEGIN:STANDARD
TZOFFSETFROM:+0000
TZOFFSETTO:+0000
TZNAME:UTC
DTSTART:20210101T000000
END:STANDARD
END:VTIMEZONE
BEGIN:VEVENT
DTSTART;TZID=UTC:20210302T080000
DTEND;TZID=UTC:20210302T170000
DTSTAMP:20230118T144437
CREATED:20210302T192938Z
LAST-MODIFIED:20210302T192938Z
UID:846-1614672000-1614704400@www.rifondazionecultura.it
SUMMARY:Immaginare il sole dell’avvenire: con Valerio Evangelisti
DESCRIPTION:Immaginare il sole dell’avvenire: con Valerio Evangelisti\nMercoledì 17 marzo 2021 alle 18.00Colloquio tra Valerio Evangelisti (scrittore) e Dmitrij Palagi (responsabile cultura – segreteria nazionale PRC-SE)\, coordinati da Francesca Falcini (coordinamento nazionale Giovani Comuniste/i) \n\nIn diretta sul canale YouTube dell’area Cultura e Formazione “Immaginare il Futuro” (www.youtube.com/channel/UCRWsYFi6Y88u5LBsMpUxo0w) e sulla pagina Facebook del Partito della Rifondazione Comunista (www.facebook.com/rifondazione.comunista)
URL:https://www.rifondazionecultura.it/event/immaginare-il-sole-dellavvenire-con-valerio-evangelisti/
CATEGORIES:Area Cultura e Formazione
END:VEVENT
END:VCALENDAR