BEGIN:VCALENDAR
VERSION:2.0
PRODID:-//Rifondazione - Cultura e formazione - ECPv6.0.6.2//NONSGML v1.0//EN
CALSCALE:GREGORIAN
METHOD:PUBLISH
X-ORIGINAL-URL:https://www.rifondazionecultura.it
X-WR-CALDESC:Eventi per Rifondazione - Cultura e formazione
REFRESH-INTERVAL;VALUE=DURATION:PT1H
X-Robots-Tag:noindex
X-PUBLISHED-TTL:PT1H
BEGIN:VTIMEZONE
TZID:UTC
BEGIN:STANDARD
TZOFFSETFROM:+0000
TZOFFSETTO:+0000
TZNAME:UTC
DTSTART:20210101T000000
END:STANDARD
END:VTIMEZONE
BEGIN:VEVENT
DTSTART;TZID=UTC:20210414T180000
DTEND;TZID=UTC:20210414T193000
DTSTAMP:20230118T145218
CREATED:20210414T073932Z
LAST-MODIFIED:20210414T073932Z
UID:1160-1618423200-1618428600@www.rifondazionecultura.it
SUMMARY:Di fondazioni e imperi: Asimov\, fantascienza e immaginario politico
DESCRIPTION:Mercoledì 14 aprile\, ore 18.00 \nIn diretta\n– sul canale YouTube Immaginare il futuro: https://youtu.be/Emwy4uDk_LE\n– sulle pagine Facebook @rifondazione.comunista e @sulatestarivista \nCon:\n– Daniele Barbieri\, giornalista e blogger\n– Valentina Bazzarin\, femminista\, ricercatrice e docente di psicologia cognitiva\n– Domenico Gallo\, scrittore \nIntroduce e coordina: Dmitrij Palagi\, responsabile cultura e formazione PRC/SE
URL:https://www.rifondazionecultura.it/event/di-fondazioni-e-imperi-asimov-fantascienza-e-immaginario-politico/
LOCATION:Telematico
CATEGORIES:Area Cultura e Formazione
END:VEVENT
BEGIN:VEVENT
DTSTART;TZID=UTC:20210303T181500
DTEND;TZID=UTC:20210303T193000
DTSTAMP:20230118T145218
CREATED:20210218T060001Z
LAST-MODIFIED:20210302T191336Z
UID:713-1614795300-1614799800@www.rifondazionecultura.it
SUMMARY:Cosa fare del tempo dato: Tolkien\, fantasy e immaginario politico
DESCRIPTION:Cosa fare del tempo dato:  Tolkien\, fantasy e immaginario politico \nMercoledì 3 marzo\, ore 18.15 \nCon:\nEleonora D’Agostino\, antropologa\nPaolo Ferrero\, vicepresidente Sinistra Europea\nAlessandro Portelli\, storico e accademico italiano \nIntroduce e coordina:\nDmitrij Palagi\,  responsabile cultura e formazione Partito della Rifondazione Comunista – SE \nIn diretta sul canale YouTube dell’area Cultura e Formazione “Immaginare il Futuro” (www.youtube.com/channel/UCRWsYFi6Y88u5LBsMpUxo0w) e sulla pagina Facebook del Partito della Rifondazione Comunista (www.facebook.com/rifondazione.comunista).
URL:https://www.rifondazionecultura.it/event/cosa-fare-del-tempo-dato-tolkien-fantasy-e-immaginario-politico/
LOCATION:Telematico
CATEGORIES:Area Cultura e Formazione
END:VEVENT
END:VCALENDAR