BEGIN:VCALENDAR
VERSION:2.0
PRODID:-//Rifondazione - Cultura e formazione - ECPv6.0.6.2//NONSGML v1.0//EN
CALSCALE:GREGORIAN
METHOD:PUBLISH
X-ORIGINAL-URL:https://www.rifondazionecultura.it
X-WR-CALDESC:Eventi per Rifondazione - Cultura e formazione
REFRESH-INTERVAL;VALUE=DURATION:PT1H
X-Robots-Tag:noindex
X-PUBLISHED-TTL:PT1H
BEGIN:VTIMEZONE
TZID:UTC
BEGIN:STANDARD
TZOFFSETFROM:+0000
TZOFFSETTO:+0000
TZNAME:UTC
DTSTART:20210101T000000
END:STANDARD
END:VTIMEZONE
BEGIN:VEVENT
DTSTART;TZID=UTC:20210115T180000
DTEND;TZID=UTC:20210115T190000
DTSTAMP:20230118T145413
CREATED:20210110T183316Z
LAST-MODIFIED:20210118T134728Z
UID:256-1610733600-1610737200@www.rifondazionecultura.it
SUMMARY:Immaginario ed estrema destra
DESCRIPTION:Le ombre strisciavano – Immaginario ed estrema destra \n\nVenerdì 15 gennaio 2020\, ore 18.00\, in diretta sul canale YouTube DirezionePRC (https://www.youtube.com/c/DirezionePrc). \n\nGiovanni Baldini\, Patria Indipendente – ANPI e coordinatore dell’indagine su fascismo e web\nValentina Bazzarin\, femminista\, ricercatrice e docente di psicologia cognitiva\nRiccardo Michelucci\, giornalista e curatore del libro Scritti dal carcere di Bobby Sands (paginauno\, 2020)\n\nIntroduce e coordina Dmitrij Palagi\, responsabile nazionale cultura e formazione del Partito della Rifondazione Comunista
URL:https://www.rifondazionecultura.it/event/immaginario-ed-estrema-destra/
CATEGORIES:Area Cultura e Formazione
END:VEVENT
END:VCALENDAR