BEGIN:VCALENDAR
VERSION:2.0
PRODID:-//Rifondazione - Cultura e formazione - ECPv6.0.6.2//NONSGML v1.0//EN
CALSCALE:GREGORIAN
METHOD:PUBLISH
X-WR-CALNAME:Rifondazione - Cultura e formazione
X-ORIGINAL-URL:https://www.rifondazionecultura.it
X-WR-CALDESC:Eventi per Rifondazione - Cultura e formazione
REFRESH-INTERVAL;VALUE=DURATION:PT1H
X-Robots-Tag:noindex
X-PUBLISHED-TTL:PT1H
BEGIN:VTIMEZONE
TZID:UTC
BEGIN:STANDARD
TZOFFSETFROM:+0000
TZOFFSETTO:+0000
TZNAME:UTC
DTSTART:20210101T000000
END:STANDARD
END:VTIMEZONE
BEGIN:VEVENT
DTSTART;TZID=UTC:20210301T080000
DTEND;TZID=UTC:20210301T170000
DTSTAMP:20230118T135901
CREATED:20210118T151821Z
LAST-MODIFIED:20210131T162145Z
UID:454-1614585600-1614618000@www.rifondazionecultura.it
SUMMARY:Prova Dipartimento Cultura
DESCRIPTION:Sezione del sito in costruzione
URL:https://www.rifondazionecultura.it/event/prova-dipartimento-cultura/
CATEGORIES:Dipartimento Cultura
END:VEVENT
END:VCALENDAR